BEGIN:VCALENDAR
VERSION:2.0
PRODID:-//National Civil War Museum - ECPv6.15.20//NONSGML v1.0//EN
CALSCALE:GREGORIAN
METHOD:PUBLISH
X-WR-CALNAME:National Civil War Museum
X-ORIGINAL-URL:https://www.nationalcivilwarmuseum.org
X-WR-CALDESC:Events for National Civil War Museum
REFRESH-INTERVAL;VALUE=DURATION:PT1H
X-Robots-Tag:noindex
X-PUBLISHED-TTL:PT1H
BEGIN:VTIMEZONE
TZID:UTC
BEGIN:STANDARD
TZOFFSETFROM:+0000
TZOFFSETTO:+0000
TZNAME:UTC
DTSTART:20220101T000000
END:STANDARD
END:VTIMEZONE
BEGIN:VEVENT
DTSTART;TZID=UTC:20230622T190000
DTEND;TZID=UTC:20230622T200000
DTSTAMP:20260425T032412
CREATED:20230517T135516Z
LAST-MODIFIED:20230615T014332Z
UID:333-1687460400-1687464000@www.nationalcivilwarmuseum.org
SUMMARY:A Civil Conversation with Christopher Graham\, via Zoom
DESCRIPTION:Christopher Graham will speak about his new book Faith\, Race\, and the Lost Cause: Confessions of a Southern Church in a Civil Conversation with NCWM CEO Jeffrey Nichols. About the speaker: Chris is from North Carolina and earned his PhD in American history at the University of North Carolina at Greensboro. He is currently a curator at the American Civil War Museum in Richmond\, Virginia\, where he lives with his wife. They are both members of St. Paul’s Episcopal Church. \nThis is an online-only event and is free and open to the public. Click here to register.
URL:https://www.nationalcivilwarmuseum.org/event/a-civil-conversation-with-christopher-graham-via-zoom/
LOCATION:The National Civil War Museum\, 1 Lincoln Circle at Reservoir Park\, Harrisburg\, PA\, 17103\, United States
CATEGORIES:Speaker
ATTACH;FMTTYPE=image/jpeg:https://www.nationalcivilwarmuseum.org/wp-content/uploads/2023/05/chris_graham-450.jpg
END:VEVENT
END:VCALENDAR