BEGIN:VCALENDAR
VERSION:2.0
PRODID:-//National Civil War Museum - ECPv6.15.20//NONSGML v1.0//EN
CALSCALE:GREGORIAN
METHOD:PUBLISH
X-WR-CALNAME:National Civil War Museum
X-ORIGINAL-URL:https://www.nationalcivilwarmuseum.org
X-WR-CALDESC:Events for National Civil War Museum
REFRESH-INTERVAL;VALUE=DURATION:PT1H
X-Robots-Tag:noindex
X-PUBLISHED-TTL:PT1H
BEGIN:VTIMEZONE
TZID:UTC
BEGIN:STANDARD
TZOFFSETFROM:+0000
TZOFFSETTO:+0000
TZNAME:UTC
DTSTART:20240101T000000
END:STANDARD
END:VTIMEZONE
BEGIN:VEVENT
DTSTART;TZID=UTC:20250503T130000
DTEND;TZID=UTC:20250503T140000
DTSTAMP:20260425T163315
CREATED:20250212T185709Z
LAST-MODIFIED:20250212T185709Z
UID:4203-1746277200-1746280800@www.nationalcivilwarmuseum.org
SUMMARY:Clara Barton - Red Cross Angel - Presentation at the NCWM
DESCRIPTION:CLARA BARTON-RED CROSS ANGEL By Award-Winning Actress & Smithsonian Scholar Mary Ann Jung \nJoin us for an interpretive presentation by Mary Ann Jung\, as she portrays Clara Barton\, on Saturday\, May 3\, 2025\, 1:00 pm – 2:00 pm\, in our education gallery. This special program is free of charge\, regular admission applies for entrance to the Museum galleries. \n About the Presentation: Clara Barton\, America’s greatest heroine\, faced bullying and bullets with astonishing bravery to save the lives of others as a Civil War nurse. She then went on to create The Missing Soldiers Office and the American Red Cross despite formidable obstacles. Audience members become naysayers and believers\, soldiers and nurses to discover what these struggles and accomplishments meant on a personal level. This award-winning show inspires all of us to “Never Give Up!”
URL:https://www.nationalcivilwarmuseum.org/event/clara-barton-red-cross-angel-presentation-at-the-ncwm/
LOCATION:The National Civil War Museum\, 1 Lincoln Circle at Reservoir Park\, Harrisburg\, PA\, 17103\, United States
ATTACH;FMTTYPE=image/jpeg:https://www.nationalcivilwarmuseum.org/wp-content/uploads/2025/02/Barton2smaller-e1739386583519.jpg
END:VEVENT
END:VCALENDAR