BEGIN:VCALENDAR
VERSION:2.0
PRODID:-//National Civil War Museum - ECPv6.15.20//NONSGML v1.0//EN
CALSCALE:GREGORIAN
METHOD:PUBLISH
X-WR-CALNAME:National Civil War Museum
X-ORIGINAL-URL:https://www.nationalcivilwarmuseum.org
X-WR-CALDESC:Events for National Civil War Museum
REFRESH-INTERVAL;VALUE=DURATION:PT1H
X-Robots-Tag:noindex
X-PUBLISHED-TTL:PT1H
BEGIN:VTIMEZONE
TZID:UTC
BEGIN:STANDARD
TZOFFSETFROM:+0000
TZOFFSETTO:+0000
TZNAME:UTC
DTSTART:20240101T000000
END:STANDARD
END:VTIMEZONE
BEGIN:VEVENT
DTSTART;TZID=UTC:20250621T100000
DTEND;TZID=UTC:20250621T160000
DTSTAMP:20260425T163102
CREATED:20250606T144103Z
LAST-MODIFIED:20250606T144103Z
UID:4519-1750500000-1750521600@www.nationalcivilwarmuseum.org
SUMMARY:Juneteenth Community Free Day
DESCRIPTION:The National Civil War Museum is proud to commemorate Juneteenth with a Community Free Day on June 21\, 2025\, 10:00 am – 4:00 pm. Guests are invited to explore the Museum free of charge and participate in special programming that highlights the importance of Juneteenth and its legacy of freedom\, resilience\, and justice. \nThis event offers a day of reflection\, learning\, and community engagement through music\, demonstrations\, and living history experiences. \nFeatured Activities: \n\n1:00 – 2:00 PM – Greater Zion Missionary Baptist Church Praise Team Choir (Ballroom)\n10:00 AM – 4:00 PM – Select Civil War Reenactors throughout the galleries\n\nWe look forward to seeing you.
URL:https://www.nationalcivilwarmuseum.org/event/juneteenth-community-free-day-2/
LOCATION:The National Civil War Museum\, 1 Lincoln Circle at Reservoir Park\, Harrisburg\, PA\, 17103\, United States
ATTACH;FMTTYPE=image/jpeg:https://www.nationalcivilwarmuseum.org/wp-content/uploads/2025/06/CivilWar_2025JuneteenthFacebook_-e1749220813810.jpg
END:VEVENT
END:VCALENDAR